BEGIN:VCALENDAR
VERSION:2.0
PRODID:-//hacksw/handcal//NONSGML v1.0//EN
BEGIN:VEVENT
SUMMARY:Seniors
UID:b92c4be3-99e8-4357-af99-c9b8d25bf06e
DTSTART:20120303T230000Z
DTEND:20120304T230000Z
LOCATION:Localisation   
CATEGORIES:Sportif
STATUS:
DESCRIPTION:Championnat: deplacement au SC Bernay Rugby Club
URL;VALUE=URI:https://www.rugbyclubyvetotais.com/evenements/2012/03/04/seniors-16786
END:VEVENT
END:VCALENDAR
