BEGIN:VCALENDAR
VERSION:2.0
PRODID:-//hacksw/handcal//NONSGML v1.0//EN
BEGIN:VEVENT
SUMMARY:U19 / Championnat Danet poule 2 
UID:820b976b-bafe-43e1-ba38-a33a98b1a367
DTSTART:20120224T230000Z
DTEND:20120225T230000Z
LOCATION:Localisation   
CATEGORIES:Sportif
STATUS:
DESCRIPTION:deplacement a Eu/Blangy/Forges
URL;VALUE=URI:https://www.rugbyclubyvetotais.com/evenements/2012/02/25/u19-championnat-danet-poule-2-16946
END:VEVENT
END:VCALENDAR
