BEGIN:VCALENDAR
VERSION:2.0
PRODID:-//hacksw/handcal//NONSGML v1.0//EN
BEGIN:VEVENT
SUMMARY:U17 / Championnat Teuliere poule 8
UID:f085b01f-48b9-48ca-8713-5ec1db36625c
DTSTART:20120224T230000Z
DTEND:20120225T230000Z
LOCATION:Localisation   
CATEGORIES:Sportif
STATUS:
DESCRIPTION:deplacement a Eu/Blangy/Forges
URL;VALUE=URI:https://www.rugbyclubyvetotais.com/evenements/2012/02/25/u17-championnat-teuliere-poule-8-16943
END:VEVENT
END:VCALENDAR
