BEGIN:VCALENDAR
VERSION:2.0
PRODID:-//hacksw/handcal//NONSGML v1.0//EN
BEGIN:VEVENT
SUMMARY:Seniors
UID:827004c2-fd4d-4066-a6ef-d38faf7e1ba7
DTSTART:20120218T230000Z
DTEND:20120219T230000Z
LOCATION:Localisation   
CATEGORIES:Sportif
STATUS:
DESCRIPTION:Championnat: reception du Rugby Club Eu / Le Treport
URL;VALUE=URI:https://www.rugbyclubyvetotais.com/evenements/2012/02/19/seniors-16766
END:VEVENT
END:VCALENDAR
