BEGIN:VCALENDAR
VERSION:2.0
PRODID:-//hacksw/handcal//NONSGML v1.0//EN
BEGIN:VEVENT
SUMMARY:U19 / Championnat Danet poule 2 
UID:df4fd340-2a9b-4cd8-814c-c63e79d833f8
DTSTART:20120217T230000Z
DTEND:20120218T230000Z
LOCATION:Localisation   
CATEGORIES:Sportif
STATUS:
DESCRIPTION:reception de Herouville/Bayeux
URL;VALUE=URI:https://www.rugbyclubyvetotais.com/evenements/2012/02/18/u19-championnat-danet-poule-2-16945
END:VEVENT
END:VCALENDAR
