BEGIN:VCALENDAR
VERSION:2.0
PRODID:-//hacksw/handcal//NONSGML v1.0//EN
BEGIN:VEVENT
SUMMARY:U17 / Championnat Teuliere poule 8
UID:38047490-f08a-4e14-b4e5-41fc76003590
DTSTART:20120217T230000Z
DTEND:20120218T230000Z
LOCATION:Localisation   
CATEGORIES:Sportif
STATUS:
DESCRIPTION:Reception de Herouville/Bayeux
URL;VALUE=URI:https://www.rugbyclubyvetotais.com/evenements/2012/02/18/u17-championnat-teuliere-poule-8-16942
END:VEVENT
END:VCALENDAR
