BEGIN:VCALENDAR
VERSION:2.0
PRODID:-//hacksw/handcal//NONSGML v1.0//EN
BEGIN:VEVENT
SUMMARY:U19 / Championnat Danet poule 2
UID:8cbcf8a7-5485-4377-86f0-b81da0cf9189
DTSTART:20120210T230000Z
DTEND:20120211T230000Z
LOCATION:Localisation   
CATEGORIES:Sportif
STATUS:
DESCRIPTION:Eu-Blangy-Forges / RCY-CSG-FRC
URL;VALUE=URI:https://www.rugbyclubyvetotais.com/evenements/2012/02/11/u19-championnat-danet-poule-2-16919
END:VEVENT
END:VCALENDAR
