BEGIN:VCALENDAR
VERSION:2.0
PRODID:-//hacksw/handcal//NONSGML v1.0//EN
BEGIN:VEVENT
SUMMARY:	U17 / Championnat Teuliere poule 8 
UID:8cb568fe-db85-4182-95de-78d2ed799965
DTSTART:20120210T230000Z
DTEND:20120211T230000Z
LOCATION:Localisation   
CATEGORIES:Sportif
STATUS:
DESCRIPTION:Eu-Blangy-Forges / RCY-RCB
URL;VALUE=URI:https://www.rugbyclubyvetotais.com/evenements/2012/02/11/u17-championnat-teuliere-poule-8-16933
END:VEVENT
END:VCALENDAR
