BEGIN:VCALENDAR
VERSION:2.0
PRODID:-//hacksw/handcal//NONSGML v1.0//EN
BEGIN:VEVENT
SUMMARY:	U17 / Championnat Teuliere poule 8 
UID:f09f8b66-9902-438b-a2fe-12ce804ae3c7
DTSTART:20120203T230000Z
DTEND:20120204T230000Z
LOCATION:Localisation   
CATEGORIES:Sportif
STATUS:
DESCRIPTION:RCY-RCB / Herouville-Bayeux
URL;VALUE=URI:https://www.rugbyclubyvetotais.com/evenements/2012/02/04/u17-championnat-teuliere-poule-8-16932
END:VEVENT
END:VCALENDAR
