BEGIN:VCALENDAR
VERSION:2.0
PRODID:-//hacksw/handcal//NONSGML v1.0//EN
BEGIN:VEVENT
SUMMARY:Seniors
UID:b8637877-ac14-4db7-8329-41c89aa789ad
DTSTART:20120128T230000Z
DTEND:20120129T230000Z
LOCATION:Localisation   
CATEGORIES:Sportif
STATUS:
DESCRIPTION:Championnat: reception du Rugby club Pays de Coutances
URL;VALUE=URI:https://www.rugbyclubyvetotais.com/evenements/2012/01/29/seniors-16844
END:VEVENT
END:VCALENDAR
