BEGIN:VCALENDAR
VERSION:2.0
PRODID:-//hacksw/handcal//NONSGML v1.0//EN
BEGIN:VEVENT
SUMMARY:Seniors
UID:cdf58fef-a62a-40a2-9332-2d507da5493c
DTSTART:20120121T230000Z
DTEND:20120122T230000Z
LOCATION:Localisation   
CATEGORIES:Sportif
STATUS:
DESCRIPTION:Championnat: deplacement au Rugby Club Cote de Nacre
URL;VALUE=URI:https://www.rugbyclubyvetotais.com/evenements/2012/01/22/seniors-16843
END:VEVENT
END:VCALENDAR
