BEGIN:VCALENDAR
VERSION:2.0
PRODID:-//hacksw/handcal//NONSGML v1.0//EN
BEGIN:VEVENT
SUMMARY:Feminines
UID:62f84d4b-07e0-47d4-ba8e-c2a93d8668f8
DTSTART:20120121T230000Z
DTEND:20120122T230000Z
LOCATION:Localisation   
CATEGORIES:Sportif
STATUS:
DESCRIPTION:Journee de championnat a Alencon
URL;VALUE=URI:https://www.rugbyclubyvetotais.com/evenements/2012/01/22/feminines-16827
END:VEVENT
END:VCALENDAR
