BEGIN:VCALENDAR
VERSION:2.0
PRODID:-//hacksw/handcal//NONSGML v1.0//EN
BEGIN:VEVENT
SUMMARY:U7 / U9 / U11
UID:00526481-abcd-43eb-afa7-cf9fc6428768
DTSTART:20120120T230000Z
DTEND:20120121T230000Z
LOCATION:Localisation   
CATEGORIES:Sportif
STATUS:
DESCRIPTION:tournoi a Yvetot
URL;VALUE=URI:https://www.rugbyclubyvetotais.com/evenements/2012/01/21/u7-u9-u11-16809
END:VEVENT
END:VCALENDAR
