BEGIN:VCALENDAR
VERSION:2.0
PRODID:-//hacksw/handcal//NONSGML v1.0//EN
BEGIN:VEVENT
SUMMARY:U19 / Championnat Danet poule 2
UID:ff898361-d8a9-46fb-a046-ff8e7b59cb17
DTSTART:20120120T230000Z
DTEND:20120121T230000Z
LOCATION:Localisation   
CATEGORIES:Sportif
STATUS:
DESCRIPTION:Cesaire Levillain-Gd Quevilly / RCY-CSG-FRC
URL;VALUE=URI:https://www.rugbyclubyvetotais.com/evenements/2012/01/21/u19-championnat-danet-poule-2-16917
END:VEVENT
END:VCALENDAR
