BEGIN:VCALENDAR
VERSION:2.0
PRODID:-//hacksw/handcal//NONSGML v1.0//EN
BEGIN:VEVENT
SUMMARY:	U17 / Championnat Teuliere poule 8 
UID:f89391f3-72a3-4b82-8fb7-e06f3ab82e42
DTSTART:20120120T230000Z
DTEND:20120121T230000Z
LOCATION:Localisation   
CATEGORIES:Sportif
STATUS:
DESCRIPTION:Pont de l'Arche / RCY-RCB
URL;VALUE=URI:https://www.rugbyclubyvetotais.com/evenements/2012/01/21/u17-championnat-teuliere-poule-8-16931
END:VEVENT
END:VCALENDAR
