BEGIN:VCALENDAR
VERSION:2.0
PRODID:-//hacksw/handcal//NONSGML v1.0//EN
BEGIN:VEVENT
SUMMARY:U13 / U15
UID:a6e4fb49-c592-473c-ade4-39976dd87156
DTSTART:20120120T230000Z
DTEND:20120121T230000Z
LOCATION:Localisation   
CATEGORIES:Sportif
STATUS:
DESCRIPTION:Tournoi a l'ASRUC.
URL;VALUE=URI:https://www.rugbyclubyvetotais.com/evenements/2012/01/21/u13-u15-16810
END:VEVENT
END:VCALENDAR
