BEGIN:VCALENDAR
VERSION:2.0
PRODID:-//hacksw/handcal//NONSGML v1.0//EN
BEGIN:VEVENT
SUMMARY:U19 / Championnat Danet poule 2
UID:efc542e0-da59-4c61-9401-2911f719717f
DTSTART:20120113T230000Z
DTEND:20120114T230000Z
LOCATION:Localisation   
CATEGORIES:Sportif
STATUS:
DESCRIPTION:Reception de l'ASRUC
URL;VALUE=URI:https://www.rugbyclubyvetotais.com/evenements/2012/01/14/u19-championnat-danet-poule-2-16763
END:VEVENT
END:VCALENDAR
