BEGIN:VCALENDAR
VERSION:2.0
PRODID:-//hacksw/handcal//NONSGML v1.0//EN
BEGIN:VEVENT
SUMMARY:U17 / Championnat Teuliere poule 8 
UID:174fffce-0d5f-484b-83b0-152bf17a7358
DTSTART:20120113T230000Z
DTEND:20120114T230000Z
LOCATION:Localisation   
CATEGORIES:Sportif
STATUS:
DESCRIPTION:Reception de l'ASRUC
URL;VALUE=URI:https://www.rugbyclubyvetotais.com/evenements/2012/01/14/u17-championnat-teuliere-poule-8-16764
END:VEVENT
END:VCALENDAR
