BEGIN:VCALENDAR
VERSION:2.0
PRODID:-//hacksw/handcal//NONSGML v1.0//EN
BEGIN:VEVENT
SUMMARY:	U17 / Championnat Teuliere poule 8 
UID:a0a0d8fb-a9da-4fa9-a570-4e925e85a803
DTSTART:20120106T230000Z
DTEND:20120107T230000Z
LOCATION:Localisation   
CATEGORIES:Sportif
STATUS:
DESCRIPTION:Ce match est REPORTE!!!
 
URL;VALUE=URI:https://www.rugbyclubyvetotais.com/evenements/2012/01/07/u17-championnat-teuliere-poule-8-16930
END:VEVENT
END:VCALENDAR
