BEGIN:VCALENDAR
VERSION:2.0
PRODID:-//hacksw/handcal//NONSGML v1.0//EN
BEGIN:VEVENT
SUMMARY:U19 / Championnat Danet poule 2
UID:d7acb92f-4fe2-4ffc-b05d-6f0007db8163
DTSTART:20111209T230000Z
DTEND:20111210T230000Z
LOCATION:Localisation   
CATEGORIES:Sportif
STATUS:
DESCRIPTION:RCY-CSG-FRC / ASRUC
URL;VALUE=URI:https://www.rugbyclubyvetotais.com/evenements/2011/12/10/u19-championnat-danet-poule-2-16916
END:VEVENT
END:VCALENDAR
