BEGIN:VCALENDAR
VERSION:2.0
PRODID:-//hacksw/handcal//NONSGML v1.0//EN
BEGIN:VEVENT
SUMMARY:	U17 / Championnat Teuliere poule 8 
UID:968cd12c-c957-4d42-9b73-fa9bbccf9be4
DTSTART:20111209T230000Z
DTEND:20111210T230000Z
LOCATION:Localisation   
CATEGORIES:Sportif
STATUS:
DESCRIPTION:RCY-RCB / ASRUC
URL;VALUE=URI:https://www.rugbyclubyvetotais.com/evenements/2011/12/10/u17-championnat-teuliere-poule-8-16929
END:VEVENT
END:VCALENDAR
