BEGIN:VCALENDAR
VERSION:2.0
PRODID:-//hacksw/handcal//NONSGML v1.0//EN
BEGIN:VEVENT
SUMMARY:Seniors
UID:85ac2fee-ad99-443f-a813-3448480c7d61
DTSTART:20111203T230000Z
DTEND:20111204T230000Z
LOCATION:Localisation   
CATEGORIES:Sportif
STATUS:
DESCRIPTION:Championnat: reception du Rugby club Bocage Virois
URL;VALUE=URI:https://www.rugbyclubyvetotais.com/evenements/2011/12/04/seniors-16841
END:VEVENT
END:VCALENDAR
