BEGIN:VCALENDAR
VERSION:2.0
PRODID:-//hacksw/handcal//NONSGML v1.0//EN
BEGIN:VEVENT
SUMMARY:U19 / Championnat Danet poule 2
UID:3eec1be3-ea68-4701-9e34-de19f5ea121d
DTSTART:20111202T230000Z
DTEND:20111203T230000Z
LOCATION:Localisation   
CATEGORIES:Sportif
STATUS:
DESCRIPTION:RCY-CSG-FRC / SC Bernay
 
 Ce match aura lieu a Notre Dame
 de Gravenchon
URL;VALUE=URI:https://www.rugbyclubyvetotais.com/evenements/2011/12/03/u19-championnat-danet-poule-2-16915
END:VEVENT
END:VCALENDAR
