BEGIN:VCALENDAR
VERSION:2.0
PRODID:-//hacksw/handcal//NONSGML v1.0//EN
BEGIN:VEVENT
SUMMARY:	U17 / Championnat Teuliere poule 8 
UID:e7bd7a84-e46c-463f-b78e-84fb9c4c9132
DTSTART:20111202T230000Z
DTEND:20111203T230000Z
LOCATION:Localisation   
CATEGORIES:Sportif
STATUS:
DESCRIPTION:RCY-RCB / Stade Rouennais
URL;VALUE=URI:https://www.rugbyclubyvetotais.com/evenements/2011/12/03/u17-championnat-teuliere-poule-8-16928
END:VEVENT
END:VCALENDAR
