BEGIN:VCALENDAR
VERSION:2.0
PRODID:-//hacksw/handcal//NONSGML v1.0//EN
BEGIN:VEVENT
SUMMARY:U7 / U9 / U11
UID:a949912c-cb8e-4780-bc78-f9a0fd49c5fc
DTSTART:20111125T230000Z
DTEND:20111126T230000Z
LOCATION:Localisation   
CATEGORIES:Sportif
STATUS:
DESCRIPTION:Tournoi a Barentin
URL;VALUE=URI:https://www.rugbyclubyvetotais.com/evenements/2011/11/26/u7-u9-u11-16940
END:VEVENT
END:VCALENDAR
