BEGIN:VCALENDAR
VERSION:2.0
PRODID:-//hacksw/handcal//NONSGML v1.0//EN
BEGIN:VEVENT
SUMMARY:U19 / Championnat Danet poule 2
UID:cde882a3-5993-47cd-a6a3-f8fc005523a5
DTSTART:20111125T230000Z
DTEND:20111126T230000Z
LOCATION:Localisation   
CATEGORIES:Sportif
STATUS:
DESCRIPTION:Section Lexovienne Rugby / RCY-CSG-FRC
URL;VALUE=URI:https://www.rugbyclubyvetotais.com/evenements/2011/11/26/u19-championnat-danet-poule-2-16914
END:VEVENT
END:VCALENDAR
