BEGIN:VCALENDAR
VERSION:2.0
PRODID:-//hacksw/handcal//NONSGML v1.0//EN
BEGIN:VEVENT
SUMMARY:	U17 / Championnat Teuliere poule 8 
UID:c6ac16ae-93f3-4658-9175-af8f72c9e8e1
DTSTART:20111125T230000Z
DTEND:20111126T230000Z
LOCATION:Localisation   
CATEGORIES:Sportif
STATUS:
DESCRIPTION:SLR Lisieux / RCY-RCB
URL;VALUE=URI:https://www.rugbyclubyvetotais.com/evenements/2011/11/26/u17-championnat-teuliere-poule-8-16927
END:VEVENT
END:VCALENDAR
