BEGIN:VCALENDAR
VERSION:2.0
PRODID:-//hacksw/handcal//NONSGML v1.0//EN
BEGIN:VEVENT
SUMMARY:Seniors
UID:e7364740-0222-4efd-92cd-8c92c4f6708c
DTSTART:20111119T230000Z
DTEND:20111120T230000Z
LOCATION:Localisation   
CATEGORIES:Sportif
STATUS:
DESCRIPTION:Championnat: Deplacement au XV Couronnais
URL;VALUE=URI:https://www.rugbyclubyvetotais.com/evenements/2011/11/20/seniors-16788
END:VEVENT
END:VCALENDAR
