BEGIN:VCALENDAR
VERSION:2.0
PRODID:-//hacksw/handcal//NONSGML v1.0//EN
BEGIN:VEVENT
SUMMARY:Seniors
UID:94b1fee6-3148-42c8-be0e-46ec68f7516e
DTSTART:20111112T230000Z
DTEND:20111113T230000Z
LOCATION:Localisation   
CATEGORIES:Sportif
STATUS:
DESCRIPTION:Championnat: reception du SC Bernay Rugby Club
URL;VALUE=URI:https://www.rugbyclubyvetotais.com/evenements/2011/11/13/seniors-16896
END:VEVENT
END:VCALENDAR
