BEGIN:VCALENDAR
VERSION:2.0
PRODID:-//hacksw/handcal//NONSGML v1.0//EN
BEGIN:VEVENT
SUMMARY:U19 / Championnat Danet poule 2
UID:e9ca8d92-691a-42d0-938d-1adc815be330
DTSTART:20111111T230000Z
DTEND:20111112T230000Z
LOCATION:Localisation   
CATEGORIES:Sportif
STATUS:
DESCRIPTION:RCY-CSG-FRC / Eu-Blangy-Forges
URL;VALUE=URI:https://www.rugbyclubyvetotais.com/evenements/2011/11/12/u19-championnat-danet-poule-2-16913
END:VEVENT
END:VCALENDAR
