BEGIN:VCALENDAR
VERSION:2.0
PRODID:-//hacksw/handcal//NONSGML v1.0//EN
BEGIN:VEVENT
SUMMARY:	U17 / Championnat Teuliere poule 8 
UID:d50c54fa-241b-4d7c-91aa-5935a722b9b9
DTSTART:20111111T230000Z
DTEND:20111112T230000Z
LOCATION:Localisation   
CATEGORIES:Sportif
STATUS:
DESCRIPTION:RCY-RCB / Eu-Blangy-Forges
URL;VALUE=URI:https://www.rugbyclubyvetotais.com/evenements/2011/11/12/u17-championnat-teuliere-poule-8-16926
END:VEVENT
END:VCALENDAR
