BEGIN:VCALENDAR
VERSION:2.0
PRODID:-//hacksw/handcal//NONSGML v1.0//EN
BEGIN:VEVENT
SUMMARY:U19 / Championnat Danet poule 2
UID:c64ccb58-9568-48b2-8b64-242ef4a428f2
DTSTART:20111104T230000Z
DTEND:20111105T230000Z
LOCATION:Localisation   
CATEGORIES:Sportif
STATUS:
DESCRIPTION:RAS-Herouville-Bayeux / RCY-CSG-FRC
URL;VALUE=URI:https://www.rugbyclubyvetotais.com/evenements/2011/11/05/u19-championnat-danet-poule-2-16883
END:VEVENT
END:VCALENDAR
