BEGIN:VCALENDAR
VERSION:2.0
PRODID:-//hacksw/handcal//NONSGML v1.0//EN
BEGIN:VEVENT
SUMMARY:	U17 / Championnat Teuliere poule 8 
UID:56dd5e62-01b4-4da9-8ae0-502c95e270f5
DTSTART:20111104T230000Z
DTEND:20111105T230000Z
LOCATION:Localisation   
CATEGORIES:Sportif
STATUS:
DESCRIPTION: Herouville-Bayeux / RCY-RCB
URL;VALUE=URI:https://www.rugbyclubyvetotais.com/evenements/2011/11/05/u17-championnat-teuliere-poule-8-16925
END:VEVENT
END:VCALENDAR
