BEGIN:VCALENDAR
VERSION:2.0
PRODID:-//hacksw/handcal//NONSGML v1.0//EN
BEGIN:VEVENT
SUMMARY:Seniors
UID:c1dc971d-485c-42c1-a42e-64ae9aad359a
DTSTART:20111029T220000Z
DTEND:20111030T220000Z
LOCATION:Localisation   
CATEGORIES:Sportif
STATUS:
DESCRIPTION:Championnat: deplacement au Rugby Club Eu / Le treport
URL;VALUE=URI:https://www.rugbyclubyvetotais.com/evenements/2011/10/30/seniors-16895
END:VEVENT
END:VCALENDAR
