BEGIN:VCALENDAR
VERSION:2.0
PRODID:-//hacksw/handcal//NONSGML v1.0//EN
BEGIN:VEVENT
SUMMARY:U7 / U9 / U11: Tournoi a Quevilly
UID:8167222a-c830-493d-bbe6-b4117a040f15
DTSTART:20111021T220000Z
DTEND:20111022T220000Z
LOCATION:Localisation   
CATEGORIES:Sportif
STATUS:
DESCRIPTION:Les moins 7, moins 9 et moins 11 ans disputent un tournoi
 a Grand-Quevilly.
URL;VALUE=URI:https://www.rugbyclubyvetotais.com/evenements/2011/10/22/u7-u9-u11-tournoi-a-quevilly-16936
END:VEVENT
END:VCALENDAR
