BEGIN:VCALENDAR
VERSION:2.0
PRODID:-//hacksw/handcal//NONSGML v1.0//EN
BEGIN:VEVENT
SUMMARY:U19 / Championnat Danet poule 2
UID:98051896-e1f7-4911-9d19-322d798f6af7
DTSTART:20111021T220000Z
DTEND:20111022T220000Z
LOCATION:Localisation   
CATEGORIES:Sportif
STATUS:
DESCRIPTION:RCY-CSG-FRC / Cesaire Levillain-Grand Quevilly
URL;VALUE=URI:https://www.rugbyclubyvetotais.com/evenements/2011/10/22/u19-championnat-danet-poule-2-16908
END:VEVENT
END:VCALENDAR
