BEGIN:VCALENDAR
VERSION:2.0
PRODID:-//hacksw/handcal//NONSGML v1.0//EN
BEGIN:VEVENT
SUMMARY:	U17 / Championnat Teuliere poule 8 
UID:a635f336-ca36-430a-a43f-603e8c5c3eec
DTSTART:20111021T220000Z
DTEND:20111022T220000Z
LOCATION:Localisation   
CATEGORIES:Sportif
STATUS:
DESCRIPTION:RCY-RCB / Pont de l'Arche
URL;VALUE=URI:https://www.rugbyclubyvetotais.com/evenements/2011/10/22/u17-championnat-teuliere-poule-8-16924
END:VEVENT
END:VCALENDAR
