BEGIN:VCALENDAR
VERSION:2.0
PRODID:-//hacksw/handcal//NONSGML v1.0//EN
BEGIN:VEVENT
SUMMARY:Seniors
UID:07b8a902-ab0d-4e06-a6dd-c7c56006c26b
DTSTART:20111015T220000Z
DTEND:20111016T220000Z
LOCATION:Localisation   
CATEGORIES:Sportif
STATUS:
DESCRIPTION:Championnat: reception du Rugby Club Mont Saint Aignan
URL;VALUE=URI:https://www.rugbyclubyvetotais.com/evenements/2011/10/16/seniors-16894
END:VEVENT
END:VCALENDAR
