BEGIN:VCALENDAR
VERSION:2.0
PRODID:-//hacksw/handcal//NONSGML v1.0//EN
BEGIN:VEVENT
SUMMARY:	U17 / Championnat Teuliere poule 8 
UID:1180cd10-99d2-4dc3-915e-fb444adcf835
DTSTART:20111014T220000Z
DTEND:20111015T220000Z
LOCATION:Localisation   
CATEGORIES:Sportif
STATUS:
DESCRIPTION:DUC / RCY-RCB
URL;VALUE=URI:https://www.rugbyclubyvetotais.com/evenements/2011/10/15/u17-championnat-teuliere-poule-8-16923
END:VEVENT
END:VCALENDAR
