BEGIN:VCALENDAR
VERSION:2.0
PRODID:-//hacksw/handcal//NONSGML v1.0//EN
BEGIN:VEVENT
SUMMARY:Seniors
UID:c5399391-d659-4db2-b02a-b987e179e393
DTSTART:20111008T220000Z
DTEND:20111009T220000Z
LOCATION:Localisation   
CATEGORIES:Sportif
STATUS:
DESCRIPTION:Championnat: deplacement au Rugby Club Pays de Coutances.
URL;VALUE=URI:https://www.rugbyclubyvetotais.com/evenements/2011/10/09/seniors-16887
END:VEVENT
END:VCALENDAR
