BEGIN:VCALENDAR
VERSION:2.0
PRODID:-//hacksw/handcal//NONSGML v1.0//EN
BEGIN:VEVENT
SUMMARY:U7 / U9 / U11: Tournoi
UID:8f3f5319-2042-46b3-91bc-50ecf6b50ecf
DTSTART:20111007T220000Z
DTEND:20111008T220000Z
LOCATION:Localisation   
CATEGORIES:Sportif
STATUS:
DESCRIPTION:Tournoi a Yvetot.
 Attention: seuls les joueurs dont LA
 TOTALITE des papiers auront ete retournes au club dans les delais
 impartis pourront prendre part a ce tournoi!!! sans cela, les jeunes
 n'etant pas assures, il est leur est impossible de jouer
URL;VALUE=URI:https://www.rugbyclubyvetotais.com/evenements/2011/10/08/u7-u9-u11-tournoi-16937
END:VEVENT
END:VCALENDAR
