BEGIN:VCALENDAR
VERSION:2.0
PRODID:-//hacksw/handcal//NONSGML v1.0//EN
BEGIN:VEVENT
SUMMARY:U13 / U15: Tournoi
UID:82789267-2cc1-4aa1-b715-a088a8215e3b
DTSTART:20111007T220000Z
DTEND:20111008T220000Z
LOCATION:Localisation   
CATEGORIES:Sportif
STATUS:
DESCRIPTION:Tournoi a Rouen.
 
 Attention: seuls les joueurs dont LA
 TOTALITE des papiers auront ete retournes au club dans les delais
 impartis pourront prendre part a ce tournoi!!! sans cela, les jeunes
 n'etant pas assures, il est leur est impossible de jouer
URL;VALUE=URI:https://www.rugbyclubyvetotais.com/evenements/2011/10/08/u13-u15-tournoi-16938
END:VEVENT
END:VCALENDAR
