BEGIN:VCALENDAR
VERSION:2.0
PRODID:-//hacksw/handcal//NONSGML v1.0//EN
BEGIN:VEVENT
SUMMARY:Seniors
UID:e9012db8-94f6-40b2-8d05-336e7a6743fd
DTSTART:20111001T220000Z
DTEND:20111002T220000Z
LOCATION:Localisation   
CATEGORIES:Sportif
STATUS:
DESCRIPTION:Championnat: reception du Cote de Nacre Rugby Club
URL;VALUE=URI:https://www.rugbyclubyvetotais.com/evenements/2011/10/02/seniors-16769
END:VEVENT
END:VCALENDAR
