BEGIN:VCALENDAR
VERSION:2.0
PRODID:-//hacksw/handcal//NONSGML v1.0//EN
BEGIN:VEVENT
SUMMARY:U19 / Championnat Danet poule 2
UID:ade2b143-8b02-470e-a4aa-ee0085ab2b12
DTSTART:20110930T220000Z
DTEND:20111001T220000Z
LOCATION:Localisation   
CATEGORIES:Sportif
STATUS:
DESCRIPTION:ASRUC / RCY-CSG-FRC (forfait de l'ASRUC => Victoire
 RCY-RCB 25/0)
URL;VALUE=URI:https://www.rugbyclubyvetotais.com/evenements/2011/10/01/u19-championnat-danet-poule-2-16911
END:VEVENT
END:VCALENDAR
