BEGIN:VCALENDAR
VERSION:2.0
PRODID:-//hacksw/handcal//NONSGML v1.0//EN
BEGIN:VEVENT
SUMMARY:U17 / Championnat Teuliere poule 8
UID:024026be-6b8d-40e7-a7de-e74b356d3593
DTSTART:20110930T220000Z
DTEND:20111001T220000Z
LOCATION:Localisation   
CATEGORIES:Sportif
STATUS:
DESCRIPTION:ASRUC / RCY-RCB
URL;VALUE=URI:https://www.rugbyclubyvetotais.com/evenements/2011/10/01/u17-championnat-teuliere-poule-8-16922
END:VEVENT
END:VCALENDAR
