BEGIN:VCALENDAR
VERSION:2.0
PRODID:-//hacksw/handcal//NONSGML v1.0//EN
BEGIN:VEVENT
SUMMARY:Assemblee Generale de l'Amicale
UID:a7b49835-0540-4ff1-b479-7e285990c359
DTSTART:20110929T220000Z
DTEND:20110930T220000Z
LOCATION:Localisation   
CATEGORIES:Sportif
STATUS:
DESCRIPTION:22h00 a La Cabane du XV
 
 - Point sur l’annee ecoulee
 ;
 - Les evenements a venir ;
 - Les elections ;
 
 
 Le traditionnel
 verre de l’amitie sera servi a l’issue de l’Assemblee Generale.
URL;VALUE=URI:https://www.rugbyclubyvetotais.com/evenements/2011/09/30/assemblee-generale-de-lamicale-16910
END:VEVENT
END:VCALENDAR
