BEGIN:VCALENDAR
VERSION:2.0
PRODID:-//hacksw/handcal//NONSGML v1.0//EN
BEGIN:VEVENT
SUMMARY:Seniors
UID:7952c3f5-971b-4013-9427-da696b1c7ed6
DTSTART:20110924T220000Z
DTEND:20110925T220000Z
LOCATION:Localisation   
CATEGORIES:Sportif
STATUS:
DESCRIPTION:Championnat: deplacement au Havre Rugby Club
URL;VALUE=URI:https://www.rugbyclubyvetotais.com/evenements/2011/09/25/seniors-16889
END:VEVENT
END:VCALENDAR
