BEGIN:VCALENDAR
VERSION:2.0
PRODID:-//hacksw/handcal//NONSGML v1.0//EN
BEGIN:VEVENT
SUMMARY:Assemblee Generale 
UID:f96f5bd7-5514-4c52-bdfa-278e479f882a
DTSTART:20110923T220000Z
DTEND:20110924T220000Z
LOCATION:Localisation   
CATEGORIES:Sportif
STATUS:
DESCRIPTION:Le Rugby Club Yvetotais tiendra son Assemblee Generale a
 18h00, suivi du traditionnel verre de l'amitie.
URL;VALUE=URI:https://www.rugbyclubyvetotais.com/evenements/2011/09/24/assemblee-generale-16886
END:VEVENT
END:VCALENDAR
