BEGIN:VCALENDAR
VERSION:2.0
PRODID:-//hacksw/handcal//NONSGML v1.0//EN
BEGIN:VEVENT
SUMMARY:Seniors
UID:4d19d931-23ae-4c41-a3c5-75ae0eeff259
DTSTART:20110916T220000Z
DTEND:20110917T220000Z
LOCATION:Localisation   
CATEGORIES:Sportif
STATUS:
DESCRIPTION:Match amical a Dieppe.
URL;VALUE=URI:https://www.rugbyclubyvetotais.com/evenements/2011/09/17/seniors-16888
END:VEVENT
END:VCALENDAR
