BEGIN:VCALENDAR
VERSION:2.0
PRODID:-//hacksw/handcal//NONSGML v1.0//EN
BEGIN:VEVENT
SUMMARY:Journee des Copains au RCB
UID:2ab1a672-4ec4-44f7-a78b-6d84719031ca
DTSTART:20110916T220000Z
DTEND:20110917T220000Z
LOCATION:Localisation   
CATEGORIES:Sportif
STATUS:
DESCRIPTION:Le rugby Club de Barention organise sa journee des
 Copains.
URL;VALUE=URI:https://www.rugbyclubyvetotais.com/evenements/2011/09/17/journee-des-copains-au-rcb-16846
END:VEVENT
END:VCALENDAR
